BEGIN:VCALENDAR
VERSION:2.0
PRODID:-//eventon.com NONSGML v1.0//EN
CALSCALE:GREGORIAN
METHOD:PUBLISH
BEGIN:VEVENT
UID:69ebb6dea1758
DTSTAMP:20260424T183054Z
DTSTART:20181114T100000Z
DTEND:20181124T170000Z
LOCATION:Mitchell Fine Art 86 Arthur St\,  Fortitude Valley\,  4006
SUMMARY:Colour II: Merv Moriarty\,  in the field
DESCRIPTION:Flying Arts cordially invites you to a very special exhibition 
 with artist and Flying Arts founder\,  Merv Moriarty. Colour II: Merv Moria
 rty\,  In the Field 14 &#8211; 24 November\,  2018 Wine Glass Cove III\,  2
 018\,  Merv Moriarty\,  acrylic on canvas 61 x 91cm Mitchell Fine Art\,  86
  Arthur Street\,  Fortitude[..]\nhttps://flyingarts.org.au/events/colour-ii
 -merv-moriarty-in-the-field/
URL:https://flyingarts.org.au/events/colour-ii-merv-moriarty-in-the-field/
END:VEVENT
END:VCALENDAR