BEGIN:VCALENDAR
VERSION:2.0
PRODID:-//eventon.com NONSGML v1.0//EN
CALSCALE:GREGORIAN
METHOD:PUBLISH
BEGIN:VEVENT
UID:69ebd0a7be692
DTSTAMP:20260424T202055Z
DTSTART:20181117T153000Z
DTEND:20181117T163000Z
LOCATION:Mitchell Fine Art 86 Arthur St\,  Fortitude Valley\,  4006
SUMMARY:Colour II: Merv Moriarty Artist Talk
DESCRIPTION:Learn about the artworks in Colour II: Merv Moriarty\,  in the 
 Field\,  from the artist himself. Merv will be in the gallery from 3:30 &#8
 211; 4:30pm to talk about his new series of works and upcoming tour. The ar
 tist describes his way of working as “sketching in the field first[..]\nh
 ttps://flyingarts.org.au/events/merv-moriarty-artist-floor-talk/
URL:https://flyingarts.org.au/events/merv-moriarty-artist-floor-talk/
END:VEVENT
END:VCALENDAR