BEGIN:VCALENDAR
VERSION:2.0
PRODID:-//eventon.com NONSGML v1.0//EN
CALSCALE:GREGORIAN
METHOD:PUBLISH
BEGIN:VEVENT
UID:69e4ea6cc1680
DTSTAMP:20260419T144500Z
DTSTART:20190131
DTEND:20190201
LOCATION:
SUMMARY:Sculpture Exhibition: Toorak Village - Toorak\,  VIC
DESCRIPTION:2019 will be the 18th year of the exhibition where Australian a
 rtists will display their sculptures in Toorak Village shop windows\,  arca
 des and along the sidewalks of Toorak Road. These will compliment the 6 per
 manent sculptures purchased by the Toorak Village businesses from previous 
 shows. Presented by the Toorak Village[..]\nhttps://flyingarts.org.au/event
 s/sculpture-exhibition-toorak-village-toorak-vic/
URL:https://flyingarts.org.au/events/sculpture-exhibition-toorak-village-toorak-vic/
END:VEVENT
END:VCALENDAR