BEGIN:VCALENDAR
VERSION:2.0
PRODID:-//eventon.com NONSGML v1.0//EN
CALSCALE:GREGORIAN
METHOD:PUBLISH
BEGIN:VEVENT
UID:69ed912c8f869
DTSTAMP:20260426T041436Z
DTSTART:20190623T090000Z
DTEND:20190623T150000Z
LOCATION:TAFE QLD Southbank Campus 66 Ernest Street\,  South Brisbane\,  QLD\,  4101
SUMMARY:How to: Deliver Successful Workshops and Workshop Series
DESCRIPTION:This workshop gives you the time and processes to look at what 
 aspects of your arts practice would make a good workshop or series. Learn h
 ow to undertake community-based research to gauge demand and tailor your co
 ntent to suit and inspire audiences. Delve into the detail on how to prepar
 e[..]\nhttps://flyingarts.org.au/events/how-to-deliver-successful-workshops
 -and-workshop-series/
URL:https://flyingarts.org.au/events/how-to-deliver-successful-workshops-and-workshop-series/
END:VEVENT
END:VCALENDAR