BEGIN:VCALENDAR
VERSION:2.0
PRODID:-//eventon.com NONSGML v1.0//EN
CALSCALE:GREGORIAN
METHOD:PUBLISH
BEGIN:VEVENT
UID:69ebaec03e55b
DTSTAMP:20260424T175616Z
DTSTART:20191213T100000Z
DTEND:20200229T170000Z
LOCATION:Gladstone Regional Art Gallery and Museum Cnr of Goondoon &\,  Bramston St\,  Gladstone Central QLD 4680
SUMMARY:Colour and Response - Gladstone
DESCRIPTION:The Colour and Response project consists of two exhibitions at 
 each venue. The first exhibition\,  Colour II: Merv Moriarty\,  In the Fiel
 d features works by Flying Arts founder\,  Merv Moriarty. Each gallery will
  also present a local exhibition drawing on Flying Arts legacies\,  under t
 he mentorship of Flying Arts curator[..]\nhttps://flyingarts.org.au/events/
 colour-and-response-gladstone/
URL:https://flyingarts.org.au/events/colour-and-response-gladstone/
END:VEVENT
END:VCALENDAR