BEGIN:VCALENDAR
VERSION:2.0
PRODID:-//eventon.com NONSGML v1.0//EN
CALSCALE:GREGORIAN
METHOD:PUBLISH
BEGIN:VEVENT
UID:69e592a485fd1
DTSTAMP:20260420T024244Z
DTSTART:20190225
DTEND:20190226
LOCATION:Brisbane
SUMMARY:Technical Coordinator: Brisbane Powerhouse - Brisbane\,  QLD
DESCRIPTION:The Technical Coordinator provides integral support for the suc
 cessful operation of the Technical Services department working directly wit
 h the Production Managers to provide event and logistic support for product
 ions\,  events\,  functions\,  festivals and exhibitions commissioned\,  pr
 oduced or co-produced by Brisbane Powerhouse. LEARN MORE\nhttps://flyingart
 s.org.au/events/technical-coordinator-brisbane-powerhouse-brisbane-qld/
URL:https://flyingarts.org.au/events/technical-coordinator-brisbane-powerhouse-brisbane-qld/
END:VEVENT
END:VCALENDAR