BEGIN:VCALENDAR
VERSION:2.0
PRODID:-//eventon.com NONSGML v1.0//EN
CALSCALE:GREGORIAN
METHOD:PUBLISH
BEGIN:VEVENT
UID:69e7a1ca12b29
DTSTAMP:20260421T161154Z
DTSTART:20190222
DTEND:20190223
LOCATION:Lismore Lismore\,  NSW
SUMMARY:Marketing & Communications Manager: Arts Northern Rivers - Lismore\,  NSW
DESCRIPTION:The Marketing and Communications Manager reports to the Executi
 ve Director and works closely with the Project Manager and Indigenous Arts
  Development Officer to support the regional arts program developed by Art
 s Northern Rivers. The role is responsible for developing and delivering 
 all aspects of Arts Northern Rivers communication and marketing strategy i
 ncluding all project activity and[..]\nhttps://flyingarts.org.au/events/ma
 rketing-communications-manager-arts-northern-rivers-lismore-nsw/
URL:https://flyingarts.org.au/events/marketing-communications-manager-arts-northern-rivers-lismore-nsw/
END:VEVENT
END:VCALENDAR