BEGIN:VCALENDAR
VERSION:2.0
PRODID:-//eventon.com NONSGML v1.0//EN
CALSCALE:GREGORIAN
METHOD:PUBLISH
BEGIN:VEVENT
UID:69e80084d87db
DTSTAMP:20260421T225604Z
DTSTART:20190313
DTEND:20190314
LOCATION:Brisbane
SUMMARY:General Fund: QLD Community Fund - Brisbane\,  QLD
DESCRIPTION:Applications for the QCF General Fund 2019 grant round are now 
 open. Mid-tier organisations promoting social cohesion and fostering commun
 ity integration\,  primarily in the arts\,  the environment including but n
 ot limited to drought\,  and indigenous languages may be eligible to apply 
 for a grant up to a maximum of $30\, 000.[..]\nhttps://flyingarts.org.au/ev
 ents/general-fund-qld-community-fund-brisbane-qld/
URL:https://flyingarts.org.au/events/general-fund-qld-community-fund-brisbane-qld/
END:VEVENT
END:VCALENDAR