BEGIN:VCALENDAR
VERSION:2.0
PRODID:-//eventon.com NONSGML v1.0//EN
CALSCALE:GREGORIAN
METHOD:PUBLISH
BEGIN:VEVENT
UID:69e74c47e7d64
DTSTAMP:20260421T100703Z
DTSTART:20190315
DTEND:20190316
LOCATION:Australia Australia
SUMMARY:Indigenous Visual Arts Industry Support Program: Department of Communication and the Arts
DESCRIPTION:The Indigenous Visual Arts Industry Support (IVAIS) program sup
 ports a professional\,  viable and ethical Indigenous visual arts industry 
 with strong participation by Aboriginal and Torres Strait Islander people. 
 Funding provides professional opportunities for more than 7\, 000 artists 
 and around 300 arts workers\,  most living in very remote Indigenous commun
 ities. LEARN MORE\nhttps://flyingarts.org.au/events/indigenous-visual-arts-
 industry-support-program-department-of-communication-and-the-arts/
URL:https://flyingarts.org.au/events/indigenous-visual-arts-industry-support-program-department-of-communication-and-the-arts/
END:VEVENT
END:VCALENDAR