BEGIN:VCALENDAR
VERSION:2.0
PRODID:-//eventon.com NONSGML v1.0//EN
CALSCALE:GREGORIAN
METHOD:PUBLISH
BEGIN:VEVENT
UID:69e6bfda13539
DTSTAMP:20260421T000754Z
DTSTART:20190430
DTEND:20190501
LOCATION:Queensland Queensland
SUMMARY:Churchill Fellowships: Winston Churchill Memorial Trust - Canberra\,  ACT
DESCRIPTION:Applications are now open for this unique\,  prestigious yet ac
 cessible award that is presented to more than 100 Australians every year! I
 t enables recipients to travel overseas for four to eight weeks so they ca
 n meet and work with leaders of influence to gain and exchange knowledge an
 d experience for the[..]\nhttps://flyingarts.org.au/events/churchill-fellow
 ships-winston-churchill-memorial-trust-canberra-act/
URL:https://flyingarts.org.au/events/churchill-fellowships-winston-churchill-memorial-trust-canberra-act/
END:VEVENT
END:VCALENDAR