BEGIN:VCALENDAR
VERSION:2.0
PRODID:-//eventon.com NONSGML v1.0//EN
CALSCALE:GREGORIAN
METHOD:PUBLISH
BEGIN:VEVENT
UID:69eb29a27681c
DTSTAMP:20260424T082818Z
DTSTART:20190415
DTEND:20190416
LOCATION:Scenic Rim Scenic Rim\,  QLD
SUMMARY:EOI for Arts Ablaze Conference: Scenic Rim Regional Council - Kooralbyn Valley\,  QLD
DESCRIPTION:The conference is aimed at transformation of regional communiti
 es and arts practice through attitudes\,  access\,  people and place. There
  will also be two days of public art celebrations following the conference.
  Arts Ablaze is calling for creative works\,  site activations\,  speakers 
 and more to be a part of the event.[..]\nhttps://flyingarts.org.au/events/e
 oi-for-arts-ablaze-conference-scenic-rim-regional-council-kooralbyn-valley-
 qld/
URL:https://flyingarts.org.au/events/eoi-for-arts-ablaze-conference-scenic-rim-regional-council-kooralbyn-valley-qld/
END:VEVENT
END:VCALENDAR