BEGIN:VCALENDAR
VERSION:2.0
PRODID:-//eventon.com NONSGML v1.0//EN
CALSCALE:GREGORIAN
METHOD:PUBLISH
BEGIN:VEVENT
UID:69e69759e05f5
DTSTAMP:20260420T211505Z
DTSTART:20190531
DTEND:20190601
LOCATION:Brisbane
SUMMARY:The Centenarian Portrait Project by Teenagers: Embraced - Brisbane\,  QLD
DESCRIPTION:The Centenarian Portrait Project by Teenagers is a professional
  community arts initiative that will culminate in an exhibition profiling 1
 00 of Brisbane&#8217;s oldest residents. LEARN MORE\nhttps://flyingarts.org
 .au/events/the-centenarian-portrait-project-by-teenagers-embraced-brisbane-
 qld/
URL:https://flyingarts.org.au/events/the-centenarian-portrait-project-by-teenagers-embraced-brisbane-qld/
END:VEVENT
END:VCALENDAR