BEGIN:VCALENDAR
VERSION:2.0
PRODID:-//eventon.com NONSGML v1.0//EN
CALSCALE:GREGORIAN
METHOD:PUBLISH
BEGIN:VEVENT
UID:69e8dbbf6c593
DTSTAMP:20260422T143127Z
DTSTART:20190508
DTEND:20190509
LOCATION:Brisbane
SUMMARY:GRID Series: BEMAC - Brisbane\,  QLD
DESCRIPTION:GRID (Grass Roots Indie Development) is an artist development p
 rogram supporting emerging musicians around Australia and strengthening com
 munities through music. LEARN MORE\nhttps://flyingarts.org.au/events/grid-s
 eries-bemac-brisbane-qld/
URL:https://flyingarts.org.au/events/grid-series-bemac-brisbane-qld/
END:VEVENT
END:VCALENDAR