BEGIN:VCALENDAR
VERSION:2.0
PRODID:-//eventon.com NONSGML v1.0//EN
CALSCALE:GREGORIAN
METHOD:PUBLISH
BEGIN:VEVENT
UID:69ebb6dea173b
DTSTAMP:20260424T183054Z
DTSTART:20200317
DTEND:20200318
LOCATION:Australia Australia
SUMMARY:International Arts Strategy Outcomes Fund Round 11: Australia Council for the Arts
DESCRIPTION:The International Arts Strategy Outcomes Fund supports opportun
 ities that directly arise from strategic initiatives delivered by the Austr
 alia Council in the target international regions under the International 
 Arts Strategy: Europe\,  North America\,  North Asia\,  South and South Eas
 t Asia. The fund prioritises outcomes that directly involve and benefit Aus
 tralian artists\,  for example[..]\nhttps://flyingarts.org.au/events/intern
 ational-arts-strategy-outcomes-fund-round-11-australia-council-for-the-arts
 /
URL:https://flyingarts.org.au/events/international-arts-strategy-outcomes-fund-round-11-australia-council-for-the-arts/
END:VEVENT
END:VCALENDAR