BEGIN:VCALENDAR
VERSION:2.0
PRODID:-//eventon.com NONSGML v1.0//EN
CALSCALE:GREGORIAN
METHOD:PUBLISH
BEGIN:VEVENT
UID:69e7befb1f69f
DTSTAMP:20260421T181627Z
DTSTART:20190517
DTEND:20190518
LOCATION:Gold Coast
SUMMARY:Indigenous Communities Engagement Co-ordinator: Home of the Arts - Gold Coast\,  QLD
DESCRIPTION:HOTA is committed to reconciliation with Aboriginal and Torres 
 Strait Islanders. The Indigenous Communities Engagement Coordinator will pl
 ay a key role in the development of an Innovate Reconciliation Action Plan 
 (RAP) that will set out the actions and commitments HOTA will undertake in 
 advancing reconciliation. Once the RAP is in[..]\nhttps://flyingarts.org.au
 /events/indigenous-communities-engagement-co-ordinator-home-of-the-arts-gol
 d-coast-qld/
URL:https://flyingarts.org.au/events/indigenous-communities-engagement-co-ordinator-home-of-the-arts-gold-coast-qld/
END:VEVENT
END:VCALENDAR