BEGIN:VCALENDAR
VERSION:2.0
PRODID:-//eventon.com NONSGML v1.0//EN
CALSCALE:GREGORIAN
METHOD:PUBLISH
BEGIN:VEVENT
UID:69ec969f8314d
DTSTAMP:20260425T102535Z
DTSTART:20190520T000000Z
DTEND:20190520T000000Z
LOCATION:Sydney Sydney\,  NSW
SUMMARY:Registrar: Biennale of Sydney - Sydney\,  NSW
DESCRIPTION:The Biennale of Sydney is seeking an experienced Registrar. Th
 e Registrar is responsible for overseeing the registration\,  freight and i
 nsurance requirements for the exhibition\,  as well as working as part of t
 he Exhibition Management team on the development and delivery of all aspect
 s of the exhibition. LEARN MORE\nhttps://flyingarts.org.au/events/registrar
 -biennale-of-sydney-sydney-nsw/
URL:https://flyingarts.org.au/events/registrar-biennale-of-sydney-sydney-nsw/
END:VEVENT
END:VCALENDAR