BEGIN:VCALENDAR
VERSION:2.0
PRODID:-//eventon.com NONSGML v1.0//EN
CALSCALE:GREGORIAN
METHOD:PUBLISH
BEGIN:VEVENT
UID:69eb3e3ad9d18
DTSTAMP:20260424T095610Z
DTSTART:20190622
DTEND:20190623
LOCATION:Bribie Island Bribie Island\,  Queensland
SUMMARY:Matthew Flinders Art Prize: Bribie Island Community Arts Society - Bribie Island\,  QLD
DESCRIPTION:The prize is open to all – ANY SUBJECT\,  ANY MEDIUM. Prizes 
 include $5000 First Prize\,  $2000 Second Prize\,  2 Highly Commended Priz
 es of $500 each and the People’s Choice Award of $500. LEARN MORE\nhttps:
 //flyingarts.org.au/events/matthew-flinders-art-prize-bribie-island-communi
 ty-arts-society-bribie-island-qld/
URL:https://flyingarts.org.au/events/matthew-flinders-art-prize-bribie-island-community-arts-society-bribie-island-qld/
END:VEVENT
END:VCALENDAR