BEGIN:VCALENDAR
VERSION:2.0
PRODID:-//eventon.com NONSGML v1.0//EN
CALSCALE:GREGORIAN
METHOD:PUBLISH
BEGIN:VEVENT
UID:69eafbe938fad
DTSTAMP:20260424T051313Z
DTSTART:20190615
DTEND:20190616
LOCATION:Longreach Longreach\,  QLD
SUMMARY:Gallery Management and Curatorial Workshops: VAST Arts - Longreach\,  QLD
DESCRIPTION:Vast Arts is delivering a series of free Gallery Management Wor
 kshops in galleries and art spaces throughout Western Queensland for artist
 s\,  venue staff and volunteers. 22 &amp; 23 June 2019 LEARN MORE\nhttps://
 flyingarts.org.au/events/gallery-management-and-curatorial-workshops-vast-a
 rts-longreach-qld/
URL:https://flyingarts.org.au/events/gallery-management-and-curatorial-workshops-vast-arts-longreach-qld/
END:VEVENT
END:VCALENDAR