BEGIN:VCALENDAR
VERSION:2.0
PRODID:-//eventon.com NONSGML v1.0//EN
CALSCALE:GREGORIAN
METHOD:PUBLISH
BEGIN:VEVENT
UID:69ebb6fde9a0e
DTSTAMP:20260424T183125Z
DTSTART:20190728
DTEND:20190729
LOCATION:Illaroo Illaroo\,  NSW
SUMMARY:Artist-in-Residence: Bundanon Trust - Illaroo\,  NSW
DESCRIPTION:The Bundanon Trust Artist-in-Residence program is open to arts 
 professionals from Australia and overseas\,  working in all disciplines. Th
 is includes artists\,  writers\,  performers\,  producers\,  directors\,  c
 omposers\,  curators and educators. Residencies can be for research and dev
 elopment or for the creation of new work. LEARN MORE\nhttps://flyingarts.or
 g.au/events/artist-in-residence-bundanon-trust-illaroo-nsw/
URL:https://flyingarts.org.au/events/artist-in-residence-bundanon-trust-illaroo-nsw/
END:VEVENT
END:VCALENDAR