BEGIN:VCALENDAR
VERSION:2.0
PRODID:-//eventon.com NONSGML v1.0//EN
CALSCALE:GREGORIAN
METHOD:PUBLISH
BEGIN:VEVENT
UID:69eb655c785e0
DTSTAMP:20260424T124308Z
DTSTART:20190819
DTEND:20190820
LOCATION:Queensland Queensland
SUMMARY:Individuals Fund: Queensland Government
DESCRIPTION:The Individuals Fund is for individual artists and cultural w
 orkers (emerging and established) to participate in transformational profes
 sional and career development opportunities. LEARN MORE\nhttps://flyingarts
 .org.au/events/individuals-fund-queensland-government/
URL:https://flyingarts.org.au/events/individuals-fund-queensland-government/
END:VEVENT
END:VCALENDAR