BEGIN:VCALENDAR
VERSION:2.0
PRODID:-//eventon.com NONSGML v1.0//EN
CALSCALE:GREGORIAN
METHOD:PUBLISH
BEGIN:VEVENT
UID:69e74de680ecc
DTSTAMP:20260421T101358Z
DTSTART:20190830
DTEND:20190831
LOCATION:Hurstville Hurstville\,  NSW
SUMMARY:Georges River Art Prize: Hurstville Museum & Gallery - Hurstville\,  NSW
DESCRIPTION:The Georges River Art Prize showcases a range of the finest pai
 ntings and sculptures produced from artists nationwide and gives local youn
 g artists a platform to display their works. LEARN MORE\nhttps://flyingarts
 .org.au/events/georges-river-art-prize-hurstville-museum-gallery-hurstville
 -nsw/
URL:https://flyingarts.org.au/events/georges-river-art-prize-hurstville-museum-gallery-hurstville-nsw/
END:VEVENT
END:VCALENDAR