BEGIN:VCALENDAR
VERSION:2.0
PRODID:-//eventon.com NONSGML v1.0//EN
CALSCALE:GREGORIAN
METHOD:PUBLISH
BEGIN:VEVENT
UID:69e76dfedc2de
DTSTAMP:20260421T123054Z
DTSTART:20190811
DTEND:20190812
LOCATION:Noosa
SUMMARY:Lyn McCrea Memorial Drawing Prize 2019: Noosa Regional Gallery - Noosa\,  QLD
DESCRIPTION:Noosa Regional Gallery invites contemporary Australian artists
  to submit works for entry into the Lyn McCrea Memorial Drawing Prize 2019
 \,  dedicated to the memory of the late Lyn McCrea (1944 – 2015); conte
 mporary visual artist\,  art educator and art collector. LEARN MORE\nhttps:
 //flyingarts.org.au/events/lyn-mccrea-memorial-drawing-prize-2019-noosa-reg
 ional-gallery-noosa-qld/
URL:https://flyingarts.org.au/events/lyn-mccrea-memorial-drawing-prize-2019-noosa-regional-gallery-noosa-qld/
END:VEVENT
END:VCALENDAR