BEGIN:VCALENDAR
VERSION:2.0
PRODID:-//eventon.com NONSGML v1.0//EN
CALSCALE:GREGORIAN
METHOD:PUBLISH
BEGIN:VEVENT
UID:69e68b03a3771
DTSTAMP:20260420T202227Z
DTSTART:20190724
DTEND:20190725
LOCATION:Cairns
SUMMARY:Partnerships Manager: Arts Queensland - Cairns\,  QLD
DESCRIPTION:Arts QLD seeks a dynamic Partnerships Manager\,  based in its 
 Far North Queensland office in Cairns. LEARN MORE\nhttps://flyingarts.org.a
 u/events/partnerships-manager-arts-queensland-cairns-qld/
URL:https://flyingarts.org.au/events/partnerships-manager-arts-queensland-cairns-qld/
END:VEVENT
END:VCALENDAR