BEGIN:VCALENDAR
VERSION:2.0
PRODID:-//eventon.com NONSGML v1.0//EN
CALSCALE:GREGORIAN
METHOD:PUBLISH
BEGIN:VEVENT
UID:69ed3390862a0
DTSTAMP:20260425T213512Z
DTSTART:20190731
DTEND:20190801
LOCATION:Brisbane
SUMMARY:Philanthropy Manager: Brisbane Powerhouse - Brisbane\,  QLD
DESCRIPTION:Sitting within the Development and Commercial team we have a ne
 w Part-Time (3 days per week) opening for an experienced philanthropy profe
 ssional whose local and national network speaks for itself.  LEARN MORE\nh
 ttps://flyingarts.org.au/events/philanthropy-manager-brisbane-powerhouse-br
 isbane-qld/
URL:https://flyingarts.org.au/events/philanthropy-manager-brisbane-powerhouse-brisbane-qld/
END:VEVENT
END:VCALENDAR