BEGIN:VCALENDAR
VERSION:2.0
PRODID:-//eventon.com NONSGML v1.0//EN
CALSCALE:GREGORIAN
METHOD:PUBLISH
BEGIN:VEVENT
UID:69eb49b34125b
DTSTAMP:20260424T104507Z
DTSTART:20200630
DTEND:20200701
LOCATION:
SUMMARY:RADF: Western Downs Regional Council - Western Downs\,  QLD
DESCRIPTION:RADF invests in local arts and cultural priorities\,  as determ
 ined by local communities. The program promotes the role and value of arts\
 ,  culture and heritage as key drivers to develop sustainable\,  diverse an
 d prosperous local communities. Across Queensland RADF supports more than 3
 \, 000 arts\,  cultural development and heritage projects annually[..]\nhtt
 ps://flyingarts.org.au/events/radf-western-downs-regional-council-western-d
 owns-qld/
URL:https://flyingarts.org.au/events/radf-western-downs-regional-council-western-downs-qld/
END:VEVENT
END:VCALENDAR