BEGIN:VCALENDAR
VERSION:2.0
PRODID:-//eventon.com NONSGML v1.0//EN
CALSCALE:GREGORIAN
METHOD:PUBLISH
BEGIN:VEVENT
UID:69ebe6863628c
DTSTAMP:20260424T215414Z
DTSTART:20200706T080000Z
DTEND:20200710T110000Z
LOCATION:Your computer
SUMMARY:Art Enquirer at the IMA
DESCRIPTION:Art Enquirer is a critical art writing program that provides in
 sight into the inner workings of the arts industry. It is a must for any st
 udent considering a career or further study in visual arts. Students will h
 ave the opportunity to virtually: – Tour a variety of digital art platfor
 ms[..]\nhttps://flyingarts.org.au/events/art-enquirer-at-the-ima-2/
URL:https://flyingarts.org.au/events/art-enquirer-at-the-ima-2/
END:VEVENT
END:VCALENDAR