BEGIN:VCALENDAR
VERSION:2.0
PRODID:-//eventon.com NONSGML v1.0//EN
CALSCALE:GREGORIAN
METHOD:PUBLISH
BEGIN:VEVENT
UID:69ebaec045174
DTSTAMP:20260424T175616Z
DTSTART:20200218T090000Z
DTEND:20200316T170000Z
LOCATION:Your computer
SUMMARY:EOIs Open: Small Schools Projects
DESCRIPTION:Up to $5\, 000 per year is available for small schools in regio
 nal and remote Queensland with 50 students or less for Artist/Teacher colla
 borations.* This opportunity allows schools to work collaboratively with an
  experienced Flying Arts artist to plan and deliver a visual arts incursion
  (workshop/residency) of your selection to collaborate[..]\nhttps://flyinga
 rts.org.au/events/small-schools-2020/
URL:https://flyingarts.org.au/events/small-schools-2020/
END:VEVENT
END:VCALENDAR