BEGIN:VCALENDAR
VERSION:2.0
PRODID:-//eventon.com NONSGML v1.0//EN
CALSCALE:GREGORIAN
METHOD:PUBLISH
BEGIN:VEVENT
UID:69ebb9a6be410
DTSTAMP:20260424T184246Z
DTSTART:20200417
DTEND:20200418
LOCATION:Melbourne Melbourne\,  VIC
SUMMARY:The Australian National Brooch Show 2020: The Contemporary Art Society of Victoria - Melbourne\,  VIC
DESCRIPTION:The Contemporary Art Society of Victoria are inviting artists t
 o submit up to 5 brooches (small wearable artworks) for exhibition. This 
 year&#8217;s exhibition will be on from 1 May &#8211; 9 August in Fitzroy
 \,  and then &#8216;tour&#8221; to Eltham\,  showing 14 August &#8211; 29 
 October. That is five and a half months on show! LEARN[..]\nhttps://flyinga
 rts.org.au/events/the-australian-national-brooch-show-2020-the-contemporary
 -art-society-of-victoria-melbourne-vic/
URL:https://flyingarts.org.au/events/the-australian-national-brooch-show-2020-the-contemporary-art-society-of-victoria-melbourne-vic/
END:VEVENT
END:VCALENDAR