BEGIN:VCALENDAR
VERSION:2.0
PRODID:-//eventon.com NONSGML v1.0//EN
CALSCALE:GREGORIAN
METHOD:PUBLISH
BEGIN:VEVENT
UID:69eccff7609d2
DTSTAMP:20260425T143015Z
DTSTART:20191129
DTEND:20191130
LOCATION:
SUMMARY:Regional Grant-making: Queensland Community Foundation
DESCRIPTION:QCF has an annual regional grant-making program for charitable 
 organisations  in areas such as aged care\,  family support\,  children\, 
  health and welfare\,  youth and arts based in the Gold Coast\,  Sunshine C
 oast\,  Toowoomba and North Queensland regions. LEARN MORE\nhttps://flyinga
 rts.org.au/events/regional-grant-making-queensland-community-foundation/
URL:https://flyingarts.org.au/events/regional-grant-making-queensland-community-foundation/
END:VEVENT
END:VCALENDAR