BEGIN:VCALENDAR
VERSION:2.0
PRODID:-//eventon.com NONSGML v1.0//EN
CALSCALE:GREGORIAN
METHOD:PUBLISH
BEGIN:VEVENT
UID:69ebb79a03e92
DTSTAMP:20260424T183402Z
DTSTART:20200420
DTEND:20200421
LOCATION:Townsville\,  QLD Townsville\,  QLD
SUMMARY:North Queensland Ceramic Awards: City of Townsville - Townsville\,  QLD
DESCRIPTION:The Biennial North Queensland Ceramic Awards aims to increase p
 ublic exposure to a high standard of pottery from around the nation. Applic
 ations are now open for 2020. LEARN MORE\nhttps://flyingarts.org.au/events/
 north-queensland-ceramic-awards-city-of-townsville-townsville-qld/
URL:https://flyingarts.org.au/events/north-queensland-ceramic-awards-city-of-townsville-townsville-qld/
END:VEVENT
END:VCALENDAR