BEGIN:VCALENDAR
VERSION:2.0
PRODID:-//eventon.com NONSGML v1.0//EN
CALSCALE:GREGORIAN
METHOD:PUBLISH
BEGIN:VEVENT
UID:69ec9b0a4b7aa
DTSTAMP:20260425T104426Z
DTSTART:20191209
DTEND:20191210
LOCATION:
SUMMARY:Celebrating Reconciliation Small Grants: Queensland Government
DESCRIPTION:This program provides participating community organisations wit
 h the opportunity and flexibility to seek funding that is appropriate to th
 e location and scale of their event. LEARN MORE\nhttps://flyingarts.org.au/
 events/celebrating-reconciliation-small-grants/
URL:https://flyingarts.org.au/events/celebrating-reconciliation-small-grants/
END:VEVENT
END:VCALENDAR