BEGIN:VCALENDAR
VERSION:2.0
PRODID:-//eventon.com NONSGML v1.0//EN
CALSCALE:GREGORIAN
METHOD:PUBLISH
BEGIN:VEVENT
UID:69e81898dfb8f
DTSTAMP:20260422T003848Z
DTSTART:20200131
DTEND:20200201
LOCATION:Broken Hill Broken Hill\,  NSW
SUMMARY:2020 Artist in Residence: Broken Hill Regional Art Gallery - Broken Hill\,  NSW
DESCRIPTION:Applications are now open for the 2020 Broken Hill Regional Art
  Gallery Artist in Residence Program. The residency must engage with the l
 ocal community and draw inspiration from the people and place of Broken Hil
 l; celebrating it as a living museum. LEARN MORE\nhttps://flyingarts.org.au
 /events/2020-artist-in-residence-broken-hill/
URL:https://flyingarts.org.au/events/2020-artist-in-residence-broken-hill/
END:VEVENT
END:VCALENDAR