BEGIN:VCALENDAR
VERSION:2.0
PRODID:-//eventon.com NONSGML v1.0//EN
CALSCALE:GREGORIAN
METHOD:PUBLISH
BEGIN:VEVENT
UID:69eb3d70d16fa
DTSTAMP:20260424T095248Z
DTSTART:20200223T100000Z
DTEND:20200223T160000Z
LOCATION:POP Gallery 381 Brunswick St\,  Fortitude Valley\,  Brisbane
SUMMARY:Taking Care of your Practice and Yourself
DESCRIPTION:Many artists and artsworkers have experienced stress\,  anxiety
  and depression linked to the uncertainties of income\,  hours\,  and from 
 working with communities in complex settings. Research also indicates these
  experiences are much more common in the arts sector than the broader popul
 ation. Learn how to develop personal wellbeing strategies and[..]\nhttps://
 flyingarts.org.au/events/taking-care-practice-yourself/
URL:https://flyingarts.org.au/events/taking-care-practice-yourself/
END:VEVENT
END:VCALENDAR