BEGIN:VCALENDAR
VERSION:2.0
PRODID:-//eventon.com NONSGML v1.0//EN
CALSCALE:GREGORIAN
METHOD:PUBLISH
BEGIN:VEVENT
UID:69ebaecf867d9
DTSTAMP:20260424T175631Z
DTSTART:20200614T093000Z
DTEND:20200614T133000Z
LOCATION:Your computer
SUMMARY:Developing Art Products
DESCRIPTION:Are you curious about how to turn a creative arts practice into
  products? Discuss and develop strategies for your arts product ideas and d
 iscover their potential with this introductory online workshop. Topics incl
 ude: &#8211; Understanding merchandise\,  meaningful collaborations\,  and 
 how products and services can add to your current arts practice[..]\nhttps:
 //flyingarts.org.au/events/merchandising-your-art/
URL:https://flyingarts.org.au/events/merchandising-your-art/
END:VEVENT
END:VCALENDAR