BEGIN:VCALENDAR
VERSION:2.0
PRODID:-//eventon.com NONSGML v1.0//EN
CALSCALE:GREGORIAN
METHOD:PUBLISH
BEGIN:VEVENT
UID:69ebaecf7c3bf
DTSTAMP:20260424T175631Z
DTSTART:20200726T090000Z
DTEND:20200726T140000Z
LOCATION:Your computer
SUMMARY:Delivering workshops for young audiences
DESCRIPTION:Are you looking to gain or refresh your facilitation skills and
  engage with new audiences? This workshop gives you guidance and confidence
  to prepare\,  design and deliver successful artist workshops online and in
  person for children and young people. Covering a range of topics\,  it inc
 ludes the different types of[..]\nhttps://flyingarts.org.au/events/deliveri
 ng-workshops-for-young-audiences/
URL:https://flyingarts.org.au/events/delivering-workshops-for-young-audiences/
END:VEVENT
END:VCALENDAR