BEGIN:VCALENDAR
VERSION:2.0
PRODID:-//eventon.com NONSGML v1.0//EN
CALSCALE:GREGORIAN
METHOD:PUBLISH
BEGIN:VEVENT
UID:69ebaf1c3dfa5
DTSTAMP:20260424T175748Z
DTSTART:20201004T090000Z
DTEND:20201004T150000Z
LOCATION:Your computer
SUMMARY:Branding to build your practice and profile
DESCRIPTION:This event has been rescheduled to Sunday 4 October online To b
 uild a personal brand\,  it helps to first articulate your purpose\,  goals
  and values. In many ways this requires much more philosophical or creative
  thinking than being commercially minded. It’s about understanding your c
 ore ‘why’ and letting that become[..]\nhttps://flyingarts.org.au/events
 /branding-to-build-your-practice-and-profile/
URL:https://flyingarts.org.au/events/branding-to-build-your-practice-and-profile/
END:VEVENT
END:VCALENDAR