BEGIN:VCALENDAR
VERSION:2.0
PRODID:-//eventon.com NONSGML v1.0//EN
CALSCALE:GREGORIAN
METHOD:PUBLISH
BEGIN:VEVENT
UID:69ebb919e4213
DTSTAMP:20260424T184025Z
DTSTART:20200503T090000Z
DTEND:20200503T150000Z
LOCATION:TAFE QLD Southbank Campus 66 Ernest Street\,  South Brisbane\,  QLD\,  4101
SUMMARY:POSTPONED: Casting from environments: Art as Knowledge
DESCRIPTION:Plaster bandage is a readily available low-cost material which 
 dries quickly and can be formed over a variety of objects to create casts o
 r moulds. In this workshop you will make moulds and casts that will be join
 ed to create new forms\,  which can be further embellished as finished artw
 orks.[..]\nhttps://flyingarts.org.au/events/casting-from-environments-art-a
 s-knowledge/
URL:https://flyingarts.org.au/events/casting-from-environments-art-as-knowledge/
END:VEVENT
END:VCALENDAR