BEGIN:VCALENDAR
VERSION:2.0
PRODID:-//eventon.com NONSGML v1.0//EN
CALSCALE:GREGORIAN
METHOD:PUBLISH
BEGIN:VEVENT
UID:69ebaf1c3e2f6
DTSTAMP:20260424T175748Z
DTSTART:20200627T090000Z
DTEND:20200627T150000Z
LOCATION:Mulga Lands Art Gallery 94 Alfred Street
SUMMARY:Postponed - Sculptural assemblage: making memory from place
DESCRIPTION:Award-winning artists Rose Rigley and Pamela Kusabs show you ho
 w to create a sculptural assemblage based on personal recollections and  e
 nvironmental memory. Assemblage is an art form that is accessible to creati
 ves of all levels. Witness how sourcing of everyday objects\,  readily avai
 lable natural materials\,  and artificial intervention can encourage[..]\nh
 ttps://flyingarts.org.au/events/sculptural-assemblage-making-memory-from-pl
 ace/
URL:https://flyingarts.org.au/events/sculptural-assemblage-making-memory-from-place/
END:VEVENT
END:VCALENDAR