BEGIN:VCALENDAR
VERSION:2.0
PRODID:-//eventon.com NONSGML v1.0//EN
CALSCALE:GREGORIAN
METHOD:PUBLISH
BEGIN:VEVENT
UID:69ebaf844e442
DTSTAMP:20260424T175932Z
DTSTART:20200809T090000Z
DTEND:20200809T150000Z
LOCATION:The Edge\,  State Library of Queensland Stanley Place\,  Cultural Centre\,  Southbank
SUMMARY:Laser cutting: creative construction
DESCRIPTION:Walk through the design and making process involved in using a 
 laser cutter and how to use it for school projects. Learn how to use Adobe 
 to design objects which are then be ready to be cut or etched on the laser 
 cutter. Suitable for educators\,  artists and artsworkers\,  the[..]\nhttps
 ://flyingarts.org.au/events/laser-cutting-creative-construction/
URL:https://flyingarts.org.au/events/laser-cutting-creative-construction/
END:VEVENT
END:VCALENDAR