BEGIN:VCALENDAR
VERSION:2.0
PRODID:-//eventon.com NONSGML v1.0//EN
CALSCALE:GREGORIAN
METHOD:PUBLISH
BEGIN:VEVENT
UID:69ec98deda87a
DTSTAMP:20260425T103510Z
DTSTART:20200626T080000Z
DTEND:20200626T160000Z
LOCATION:Your computer
SUMMARY:Consultations with Jonathan McBurnie
DESCRIPTION:Take the opportunity to discuss your career or practice one-on-
 one with Jonathan McBurnie\,  respected arts industry professional and Crea
 tive Director of Perc Tucker Regional Gallery and Pinnacles Gallery\,  Town
 sville. He is also former judge and lead curator of the 2019 Queensland Reg
 ional Art Awards. Use these one-hour sessions to discuss[..]\nhttps://flyin
 garts.org.au/events/consultations-with-jonathan-mcburnie/
URL:https://flyingarts.org.au/events/consultations-with-jonathan-mcburnie/
END:VEVENT
END:VCALENDAR