BEGIN:VCALENDAR
VERSION:2.0
PRODID:-//eventon.com NONSGML v1.0//EN
CALSCALE:GREGORIAN
METHOD:PUBLISH
BEGIN:VEVENT
UID:69ebb609a51e8
DTSTAMP:20260424T182721Z
DTSTART:20200228
DTEND:20200229
LOCATION:
SUMMARY:Portrait Prize 2020: Southern Buoy Studios - Mornington\,  VIC
DESCRIPTION:SBS invite artists to submit paintings in competition for the P
 ortrait Prize 2020. Entries in the Portrait Prize competition are also elig
 ible to be considered for: Winner – Value $7\, 000 People’s Choice – 
 Value $1\, 000 voucher Framing LEARN MORE\nhttps://flyingarts.org.au/events
 /portrait-prize-2020-southern-buoy-studios-mornington-vic/
URL:https://flyingarts.org.au/events/portrait-prize-2020-southern-buoy-studios-mornington-vic/
END:VEVENT
END:VCALENDAR