BEGIN:VCALENDAR
VERSION:2.0
PRODID:-//eventon.com NONSGML v1.0//EN
CALSCALE:GREGORIAN
METHOD:PUBLISH
BEGIN:VEVENT
UID:69ebafba7a932
DTSTAMP:20260424T180026Z
DTSTART:20200416T110000Z
DTEND:20200416T120000Z
LOCATION:Your computer
SUMMARY:Sustaining a dynamic art collective
DESCRIPTION:A connected art collective can bring artists together to stay f
 ocused and passionate for the challenging path they’re taking through the
  creative industries. Learn how to create a dynamic collective which shifts
  your fellow creatives from being your competition to your colleagues\,  be
 st friends and closest allies. You will: &#8211;[..]\nhttps://flyingarts.or
 g.au/events/sustaining-a-dynamic-art-collective/
URL:https://flyingarts.org.au/events/sustaining-a-dynamic-art-collective/
END:VEVENT
END:VCALENDAR