BEGIN:VCALENDAR
VERSION:2.0
PRODID:-//eventon.com NONSGML v1.0//EN
CALSCALE:GREGORIAN
METHOD:PUBLISH
BEGIN:VEVENT
UID:69ebaf9ede11e
DTSTAMP:20260424T175958Z
DTSTART:20200604T143000Z
DTEND:20200604T154500Z
LOCATION:Your computer
SUMMARY:Connecting Art with Place
DESCRIPTION:This is the first webinar in a trilogy on Place\,  Kin and Lang
 uage\,  designed to address how to connect the Arts with the cross curricul
 um priority of Aboriginal and Torres Strait Islander Histories and Cultures
 . Shayna Wells draws on the extensive work she has undertaken with arts\,  
 schools and research[..]\nhttps://flyingarts.org.au/events/connecting-art-w
 ith-place/
URL:https://flyingarts.org.au/events/connecting-art-with-place/
END:VEVENT
END:VCALENDAR