BEGIN:VCALENDAR
VERSION:2.0
PRODID:-//eventon.com NONSGML v1.0//EN
CALSCALE:GREGORIAN
METHOD:PUBLISH
BEGIN:VEVENT
UID:69ebaefe08dbd
DTSTAMP:20260424T175718Z
DTSTART:20200716T110000Z
DTEND:20200716T120000Z
LOCATION:Your computer
SUMMARY:Maximising your return at tax time
DESCRIPTION:Matthew Tucker joins us for our annual session on tax and money
  matters for artists\,  with a focus on how to maximise your return in this
  year of COVID-19. If you are about to fill in your tax return\,  take a br
 eak and watch this video for relevant updates and[..]\nhttps://flyingarts.o
 rg.au/events/maximising-your-return-at-tax-time/
URL:https://flyingarts.org.au/events/maximising-your-return-at-tax-time/
END:VEVENT
END:VCALENDAR