BEGIN:VCALENDAR
VERSION:2.0
PRODID:-//eventon.com NONSGML v1.0//EN
CALSCALE:GREGORIAN
METHOD:PUBLISH
BEGIN:VEVENT
UID:69ebaf844e2a2
DTSTAMP:20260424T175932Z
DTSTART:20201105T153000Z
DTEND:20201105T164500Z
LOCATION:Your computer
SUMMARY:Connecting Art with Kin
DESCRIPTION:Webinar rescheduled from August In this Webinar\,  Dr Ryan Pres
 ley shares his body of work Blood Money with the aim of equipping arts work
 ers and arts educators with knowledge they can utilise in a classroom setti
 ng. One of the primary aims of the Blood Money project is to broadcast and[
 ..]\nhttps://flyingarts.org.au/events/connecting-art-with-kin/
URL:https://flyingarts.org.au/events/connecting-art-with-kin/
END:VEVENT
END:VCALENDAR