BEGIN:VCALENDAR
VERSION:2.0
PRODID:-//eventon.com NONSGML v1.0//EN
CALSCALE:GREGORIAN
METHOD:PUBLISH
BEGIN:VEVENT
UID:69ebaf55115b4
DTSTAMP:20260424T175845Z
DTSTART:20200917T110000Z
DTEND:20200917T120000Z
LOCATION:Your computer
SUMMARY:Finding the right residency for you
DESCRIPTION:Donna Davis explores the different kinds of residency models av
 ailable to artists\,  discussing practical and technical elements to consid
 er when seeking and undertaking them. Drawing on the range of her own real-
 world experiences\,  learn where to find these opportunities\,  how to prep
 are a competitive application\,  and what’s involved in setting[..]\nhttp
 s://flyingarts.org.au/events/finding-the-right-residency-for-you/
URL:https://flyingarts.org.au/events/finding-the-right-residency-for-you/
END:VEVENT
END:VCALENDAR