BEGIN:VCALENDAR
VERSION:2.0
PRODID:-//eventon.com NONSGML v1.0//EN
CALSCALE:GREGORIAN
METHOD:PUBLISH
BEGIN:VEVENT
UID:69ebaf6a22399
DTSTAMP:20260424T175906Z
DTSTART:20201114T090000Z
DTEND:20201115T170000Z
LOCATION:TAFE QLD Southbank Campus 66 Ernest Street\,  South Brisbane\,  QLD\,  4101
SUMMARY:Where To Next...? Business Intensive for Mid-Career Artists: Brisbane
DESCRIPTION:Mid-career artists are invited to take part in this unique prog
 ram designed to explore and map out the next steps for your creative practi
 ce and arts business.  Facilitated by Dr Cathryn Lloyd\,  the 2-day intens
 ive uses creative approaches to reflect on the provenance (origins and moti
 vations) of your professional practice[..]\nhttps://flyingarts.org.au/event
 s/where-to-next-business-intensive-for-mid-career-artists-2020/
URL:https://flyingarts.org.au/events/where-to-next-business-intensive-for-mid-career-artists-2020/
END:VEVENT
END:VCALENDAR