BEGIN:VCALENDAR
VERSION:2.0
PRODID:-//eventon.com NONSGML v1.0//EN
CALSCALE:GREGORIAN
METHOD:PUBLISH
BEGIN:VEVENT
UID:69eb2ffc71304
DTSTAMP:20260424T085524Z
DTSTART:20200525
DTEND:20200526
LOCATION:Mulga Lands Art Gallery 94 Alfred Street
SUMMARY:POSTPONED: State of Diversity - Charleville
DESCRIPTION:See the best art regional Queensland has to offer in the State 
 of Diversity exhibition. Queensland is a state full of diverse ecosystems\,
   wildlife\,  places\,  people and personalities. Artists were encouraged t
 o explore the diverse elements and qualities that make up their own communi
 ties and locations within Queensland. This exhibition[..]\nhttps://flyingar
 ts.org.au/events/state-of-diversity-charleville/
URL:https://flyingarts.org.au/events/state-of-diversity-charleville/
END:VEVENT
END:VCALENDAR