BEGIN:VCALENDAR
VERSION:2.0
PRODID:-//eventon.com NONSGML v1.0//EN
CALSCALE:GREGORIAN
METHOD:PUBLISH
BEGIN:VEVENT
UID:69ebaf6a03ead
DTSTAMP:20260424T175906Z
DTSTART:20200305T100000Z
DTEND:20200306T160000Z
LOCATION:POP Gallery\,  QCA Galleries Griffith University 381 Brunswick St\,  Fortitude Valley\,  Brisbane
SUMMARY:QRAA Artist in Residence: Katrin Terton
DESCRIPTION:Join artist Katrin Terton for a creative site activation featur
 ing hand-building clay and collage objects. During the site activation peri
 od\,  exhibiting artists from State of Diversity will demonstrate their p
 ractice and sell their artworks at pop-up shops. This program is part of th
 e Brisbane Hotspot &#8211; an event which combines a Flying[..]\nhttps://fl
 yingarts.org.au/events/qraa-artist-in-residence-katrin-terton/
URL:https://flyingarts.org.au/events/qraa-artist-in-residence-katrin-terton/
END:VEVENT
END:VCALENDAR