BEGIN:VCALENDAR
VERSION:2.0
PRODID:-//eventon.com NONSGML v1.0//EN
CALSCALE:GREGORIAN
METHOD:PUBLISH
BEGIN:VEVENT
UID:69ebb92360f4b
DTSTAMP:20260424T184035Z
DTSTART:20200303
DTEND:20200304
LOCATION:Brisbane
SUMMARY:Senior Investment Manager: Arts QLD - Brisbane\,  QLD
DESCRIPTION:Arts Queensland are seeking a Senior Investment Manager (AO8) t
 o utilise their experience in grant program design and management\,  nurtur
 ing external relationships\,  negotiating and communicating\,  building int
 ernal relationships\,  organisational capacity and responsiveness towards t
 he delivery of investment support to the Arts and Cultural sector through f
 unding programs.  LEARN MORE\nhttps://flyingarts.org.au/events/senior-inve
 stment-manager-arts-qld-brisbane-qld/
URL:https://flyingarts.org.au/events/senior-investment-manager-arts-qld-brisbane-qld/
END:VEVENT
END:VCALENDAR